BEGIN:VCALENDAR
VERSION:2.0
PRODID:icalendar-ruby
CALSCALE:GREGORIAN
METHOD:PUBLISH
BEGIN:VEVENT
DTSTAMP:20260421T122818Z
UID:687-4914@mybethel.org
DTSTART:20260502T140000Z
DTEND:20260502T173000Z
CLASS:PUBLIC
CREATED:20260416T115915
DESCRIPTION:
LAST-MODIFIED:20260416T115915
LOCATION:1220 Bethel Rd. Columbus\, Ohio 43220
SUMMARY:Community Service Weekend
URL;VALUE=URI:https://www.mybethel.org/events/community-service-weekend/202
 6-05-02
END:VEVENT
END:VCALENDAR
